BEGIN:VCALENDAR
VERSION:2.0
PRODID:-//Destination Sturgeon Bay - ECPv6.15.20//NONSGML v1.0//EN
CALSCALE:GREGORIAN
METHOD:PUBLISH
X-WR-CALNAME:Destination Sturgeon Bay
X-ORIGINAL-URL:https://sturgeonbay.net
X-WR-CALDESC:Events for Destination Sturgeon Bay
REFRESH-INTERVAL;VALUE=DURATION:PT1H
X-Robots-Tag:noindex
X-PUBLISHED-TTL:PT1H
BEGIN:VTIMEZONE
TZID:America/Chicago
BEGIN:DAYLIGHT
TZOFFSETFROM:-0600
TZOFFSETTO:-0500
TZNAME:CDT
DTSTART:20250309T080000
END:DAYLIGHT
BEGIN:STANDARD
TZOFFSETFROM:-0500
TZOFFSETTO:-0600
TZNAME:CST
DTSTART:20251102T070000
END:STANDARD
BEGIN:DAYLIGHT
TZOFFSETFROM:-0600
TZOFFSETTO:-0500
TZNAME:CDT
DTSTART:20260308T080000
END:DAYLIGHT
BEGIN:STANDARD
TZOFFSETFROM:-0500
TZOFFSETTO:-0600
TZNAME:CST
DTSTART:20261101T070000
END:STANDARD
BEGIN:DAYLIGHT
TZOFFSETFROM:-0600
TZOFFSETTO:-0500
TZNAME:CDT
DTSTART:20270314T080000
END:DAYLIGHT
BEGIN:STANDARD
TZOFFSETFROM:-0500
TZOFFSETTO:-0600
TZNAME:CST
DTSTART:20271107T070000
END:STANDARD
END:VTIMEZONE
BEGIN:VEVENT
DTSTART;TZID=America/Chicago:20260605T080000
DTEND;TZID=America/Chicago:20260605T170000
DTSTAMP:20260422T052959
CREATED:20260216T195244Z
LAST-MODIFIED:20260216T195309Z
UID:10005930-1780646400-1780678800@sturgeonbay.net
SUMMARY:Sturgeon Bay's Annual City Wide Garage Sale
DESCRIPTION:
URL:https://sturgeonbay.net/local-events/sturgeon-bays-city-wide-garage-sale/2026-06-05/
LOCATION:Sturgeon Bay
END:VEVENT
BEGIN:VEVENT
DTSTART;TZID=America/Chicago:20260606T080000
DTEND;TZID=America/Chicago:20260606T170000
DTSTAMP:20260422T052959
CREATED:20260216T195244Z
LAST-MODIFIED:20260216T195309Z
UID:10005931-1780732800-1780765200@sturgeonbay.net
SUMMARY:Sturgeon Bay's Annual City Wide Garage Sale
DESCRIPTION:
URL:https://sturgeonbay.net/local-events/sturgeon-bays-city-wide-garage-sale/2026-06-06/
LOCATION:Sturgeon Bay
END:VEVENT
END:VCALENDAR