BEGIN:VCALENDAR
VERSION:2.0
PRODID:-//Destination Sturgeon Bay - ECPv6.15.20//NONSGML v1.0//EN
CALSCALE:GREGORIAN
METHOD:PUBLISH
X-WR-CALNAME:Destination Sturgeon Bay
X-ORIGINAL-URL:https://sturgeonbay.net
X-WR-CALDESC:Events for Destination Sturgeon Bay
REFRESH-INTERVAL;VALUE=DURATION:PT1H
X-Robots-Tag:noindex
X-PUBLISHED-TTL:PT1H
BEGIN:VTIMEZONE
TZID:America/Chicago
BEGIN:DAYLIGHT
TZOFFSETFROM:-0600
TZOFFSETTO:-0500
TZNAME:CDT
DTSTART:20250309T080000
END:DAYLIGHT
BEGIN:STANDARD
TZOFFSETFROM:-0500
TZOFFSETTO:-0600
TZNAME:CST
DTSTART:20251102T070000
END:STANDARD
BEGIN:DAYLIGHT
TZOFFSETFROM:-0600
TZOFFSETTO:-0500
TZNAME:CDT
DTSTART:20260308T080000
END:DAYLIGHT
BEGIN:STANDARD
TZOFFSETFROM:-0500
TZOFFSETTO:-0600
TZNAME:CST
DTSTART:20261101T070000
END:STANDARD
BEGIN:DAYLIGHT
TZOFFSETFROM:-0600
TZOFFSETTO:-0500
TZNAME:CDT
DTSTART:20270314T080000
END:DAYLIGHT
BEGIN:STANDARD
TZOFFSETFROM:-0500
TZOFFSETTO:-0600
TZNAME:CST
DTSTART:20271107T070000
END:STANDARD
END:VTIMEZONE
BEGIN:VEVENT
DTSTART;TZID=America/Chicago:20260523T100000
DTEND;TZID=America/Chicago:20260523T160000
DTSTAMP:20260424T051619
CREATED:20260421T151008Z
LAST-MODIFIED:20260421T151008Z
UID:10006283-1779530400-1779552000@sturgeonbay.net
SUMMARY:28th Annual Sturgeon Bay Fine Art Fair
DESCRIPTION:Join Destination Sturgeon Bay at Martin Park this Memorial Day weekend for the 28th Annual Fine Art Fair! Join us to experience the incredible creativity and artistic talent that continues to amaze visitors each and every year. This year\, the Fine Art Fair will feature over 80 artists from across the Midwest\, live entertainment\, children’s activities\, food\, and more! \nLearn more here: https://sturgeonbay.net/special-events/fine-art-fair/
URL:https://sturgeonbay.net/local-events/28th-annual-sturgeon-bay-fine-art-fair/2026-05-23/
LOCATION:Martin Park
ATTACH;FMTTYPE=image/jpeg:https://sturgeonbay.net/wp-content/uploads/Fine-art-fair-600x413-1.jpg
ORGANIZER;CN="Destination Sturgeon Bay":MAILTO:vacation@sturgeonbay.net
END:VEVENT
BEGIN:VEVENT
DTSTART;TZID=America/Chicago:20260524T100000
DTEND;TZID=America/Chicago:20260524T150000
DTSTAMP:20260424T051619
CREATED:20260421T151008Z
LAST-MODIFIED:20260421T151008Z
UID:10006284-1779616800-1779634800@sturgeonbay.net
SUMMARY:28th Annual Sturgeon Bay Fine Art Fair
DESCRIPTION:Join Destination Sturgeon Bay at Martin Park this Memorial Day weekend for the 28th Annual Fine Art Fair! Join us to experience the incredible creativity and artistic talent that continues to amaze visitors each and every year. This year\, the Fine Art Fair will feature over 80 artists from across the Midwest\, live entertainment\, children’s activities\, food\, and more! \nLearn more here: https://sturgeonbay.net/special-events/fine-art-fair/
URL:https://sturgeonbay.net/local-events/28th-annual-sturgeon-bay-fine-art-fair/2026-05-24/
LOCATION:Martin Park
ATTACH;FMTTYPE=image/jpeg:https://sturgeonbay.net/wp-content/uploads/Fine-art-fair-600x413-1.jpg
ORGANIZER;CN="Destination Sturgeon Bay":MAILTO:vacation@sturgeonbay.net
END:VEVENT
END:VCALENDAR